BEGIN:VCALENDAR
VERSION:2.0
BEGIN:VEVENT
DTSTART:2023-02-01T11:00+00:00
DTEND:2023-02-01T12:00+00:00
SUMMARY:Trio Paradis Café Concerts Time & Motion
DESCRIPTION:
LOCATION:The David Hall, Roundwell Street, South Petherton, Somerset, United Kingdom, TA13 5AA
END:VEVENT
END:VCALENDAR
