BEGIN:VCALENDAR
VERSION:2.0
BEGIN:VEVENT
DTSTART:2022-11-25T10:00+00:00
DTEND:2022-11-26T18:00+00:00
SUMMARY:Langport Christmas Market
DESCRIPTION:
LOCATION:Langport Town Centre, Cocklemoor Car Park, Langport, Somerset, United Kingdom, TA10 9RA
END:VEVENT
END:VCALENDAR
