BEGIN:VCALENDAR
VERSION:2.0
BEGIN:VEVENT
DTSTART:2022-12-03T10:00+00:00
DTEND:2022-12-22T15:00+00:00
SUMMARY:Christmas Tree Trail
DESCRIPTION:
LOCATION:Coates English Willow Visitor Centre , Willows and Wetlands Centre, Meare Green Court, Stoke St Gregory, Taunton, Somerset, United Kingdom, TA3 6HY
END:VEVENT
END:VCALENDAR
