BEGIN:VCALENDAR
VERSION:2.0
BEGIN:VEVENT
DTSTART:2022-12-10T10:00+00:00
DTEND:2022-12-11T16:00+00:00
SUMMARY:Willow Workshops - Christmas Decorations
DESCRIPTION:
LOCATION:Ferne Animal Sanctuary, Wambrook, Chard, Somerset, United Kingdom, TA20 3DH
END:VEVENT
END:VCALENDAR
