BEGIN:VCALENDAR
VERSION:2.0
BEGIN:VEVENT
DTSTART:2022-07-23T09:30+01:00
DTEND:2022-07-23T17:00+01:00
SUMMARY:Kimbers' Farm Open Day  
DESCRIPTION:
LOCATION:Kimbers Farm Shop, Linley Farm, Charlton Musgrove, Wincanton, Somerset, United Kingdom, BA9 8HD
END:VEVENT
END:VCALENDAR
