BEGIN:VCALENDAR
VERSION:2.0
BEGIN:VEVENT
DTSTART:2022-10-01T20:00+01:00
DTEND:2022-10-01T23:00+01:00
SUMMARY:Concert: The Trials of Cato
DESCRIPTION:
LOCATION:The David Hall, Roundwell Street, South Petherton, Somerset, United Kingdom, TA13 5AA
END:VEVENT
END:VCALENDAR
