BEGIN:VCALENDAR
VERSION:2.0
BEGIN:VEVENT
DTSTART:2022-05-28T09:30+01:00
DTEND:2022-09-01T17:00+01:00
SUMMARY:Alice in Wonderland Willow Sculpture Trail
DESCRIPTION:
LOCATION:Coates English Willow Visitor Centre , Willows and Wetlands Centre, Meare Green Court, Stoke St Gregory, Taunton, Somerset, United Kingdom, TA3 6HY
END:VEVENT
END:VCALENDAR
