BEGIN:VCALENDAR
VERSION:2.0
BEGIN:VEVENT
DTSTART:2023-02-25T10:00+00:00
DTEND:2023-02-26T16:00+00:00
SUMMARY:Pop-up Art Gallery
DESCRIPTION:
LOCATION:Great Bow Wharf, Bow Street, Langport, Somerset, United Kingdom, TA10 9PN
END:VEVENT
END:VCALENDAR
