BEGIN:VCALENDAR
VERSION:2.0
BEGIN:VEVENT
DTSTART:2022-05-30T10:00+01:00
DTEND:2022-06-01T15:00+01:00
SUMMARY:May Half Term: Make and Take a Royal Ceramic
DESCRIPTION:
LOCATION:Fleet Air Arm Museum, RNAS Yeovilton, Ilchester, Somerset, United Kingdom, BA22 8HW
END:VEVENT
END:VCALENDAR
