BEGIN:VCALENDAR
VERSION:2.0
BEGIN:VEVENT
DTSTART:2022-06-04T15:00+01:00
DTEND:2022-06-04T16:00+01:00
SUMMARY:Wassail Theatre present: Whispering Willows
DESCRIPTION:
LOCATION:Speedwell Hall, Abbey Street, Crewkerne, Somerset, United Kingdom, Ta18 7HY
END:VEVENT
END:VCALENDAR
