BEGIN:VCALENDAR
VERSION:2.0
BEGIN:VEVENT
DTSTART:2022-01-29T20:00+00:00
DTEND:2022-01-29T20:00+00:00
SUMMARY:Show: The Churchfitters
DESCRIPTION:
LOCATION:The David Hall, Roundwell Street, South Petherton, Somerset, United Kingdom, TA13 5AA
END:VEVENT
END:VCALENDAR
