BEGIN:VCALENDAR
VERSION:2.0
BEGIN:VEVENT
DTSTART:2023-11-18T15:00+00:00
DTEND:2023-11-18T19:30+00:00
SUMMARY:Yeovil Christmas Light Switch On
DESCRIPTION:
LOCATION:Yeovil town centre, Middle Street, Yeovil, Somerset , United Kingdom, BA20 1SH
END:VEVENT
END:VCALENDAR
