BEGIN:VCALENDAR
VERSION:2.0
BEGIN:VEVENT
DTSTART:2025-08-14T19:30+01:00
DTEND:2025-08-14T21:00+01:00
SUMMARY:Nature at Night 
DESCRIPTION:
LOCATION:Chard Reservoir LNR, Chard Reservoir LNR, Oaklands Avenue, Chard, Somerset, United Kingdom, TA20 1HU
END:VEVENT
END:VCALENDAR
