BEGIN:VCALENDAR
VERSION:2.0
BEGIN:VEVENT
DTSTART:2025-04-03T12:40+01:00
DTEND:2025-04-03T14:40+01:00
SUMMARY:The Tracks & Tunnels of Bygone Railways
DESCRIPTION:
LOCATION:Yeovil Country Park, Yeovil Country Park, Brunswick Street, Yeovil, Somerset, United Kingdom, BA20 1QZ
END:VEVENT
END:VCALENDAR
