BEGIN:VCALENDAR
VERSION:2.0
BEGIN:VEVENT
DTSTART:2024-07-11T10:00+01:00
DTEND:2024-07-11T12:30+01:00
SUMMARY:The many lives of Wyndham Hill - Guided Walk
DESCRIPTION:
LOCATION:Meeting Point- Yeo Leisure Park, Car Park, Old Station Way, Yeovil, Somerset, United Kingdom, BA20 1NP
END:VEVENT
END:VCALENDAR
