BEGIN:VCALENDAR
VERSION:2.0
BEGIN:VEVENT
DTSTART:2023-12-09T09:30+00:00
DTEND:2023-12-24T14:30+00:00
SUMMARY:Mrs Christmas' Cookie Cutter Trail at Barrington Court
DESCRIPTION:
LOCATION:Barrington Court, Barrington, Ilminster, Somerset , United Kingdom, TA19 0NQ
END:VEVENT
END:VCALENDAR
