BEGIN:VCALENDAR
VERSION:2.0
BEGIN:VEVENT
DTSTART:2023-11-21T10:00+00:00
DTEND:2023-11-21T14:00+00:00
SUMMARY:Christmas Craft Market
DESCRIPTION:
LOCATION:Caryford Community Hall, Maggs Lane, Ansford, Castle Cary, Somerset, United Kingdom, BA7 7JJ
END:VEVENT
END:VCALENDAR
