BEGIN:VCALENDAR
VERSION:2.0
BEGIN:VEVENT
DTSTART:2023-11-05T16:00+00:00
DTEND:2023-11-05T20:00+00:00
SUMMARY:Bonfire and Fireworks Display
DESCRIPTION:
LOCATION:Archie Gooch Pavilion, Brittens Field, The Rec, Ilminster, Somerset, United Kingdom, TA19 9FE
END:VEVENT
END:VCALENDAR
