BEGIN:VCALENDAR
VERSION:2.0
BEGIN:VEVENT
DTSTART:2023-11-03T17:30+00:00
DTEND:2023-11-03T19:30+00:00
SUMMARY:Bruton Community Fireworks Night 
DESCRIPTION:
LOCATION:Sexeys School, Cole Road, Bruton, Somerset, United Kingdom, BA10 0DF
END:VEVENT
END:VCALENDAR
