BEGIN:VCALENDAR
VERSION:2.0
BEGIN:VEVENT
DTSTART:2023-10-24T10:00+01:00
DTEND:2023-10-24T13:00+01:00
SUMMARY:Autumnfest
DESCRIPTION:
LOCATION:Chard Reservoir LNR, Chard Reservoir LNR, Oaklands Avenue, Chard, Somerset, United Kingdom, TA20 1HU
END:VEVENT
END:VCALENDAR
