BEGIN:VCALENDAR
VERSION:2.0
BEGIN:VEVENT
DTSTART:2023-09-09T10:00+01:00
DTEND:2023-10-21T16:00+01:00
SUMMARY:Tom Clark Exhibition
DESCRIPTION:
LOCATION:Muchelney Pottery, Muchelney, Langport, Somerset, United Kingdom, TA10 0DW
END:VEVENT
END:VCALENDAR
