BEGIN:VCALENDAR
VERSION:2.0
BEGIN:VEVENT
DTSTART:2023-07-09T00:00+01:00
DTEND:2023-07-09T00:00+01:00
SUMMARY:Tea by the Lake
DESCRIPTION:
LOCATION:Haselbury Mill, Haselbury Plucknett, Crewkerne, Somerset, United Kingdom, TA18 7NY
END:VEVENT
END:VCALENDAR
