BEGIN:VCALENDAR
VERSION:2.0
BEGIN:VEVENT
DTSTART:2023-05-30T10:00+01:00
DTEND:2023-06-02T17:00+01:00
SUMMARY:Preserving the Past - Fleet Air Arm Museum's Conservation Week
DESCRIPTION:
LOCATION:Fleet Air Arm Museum, RNAS Yeovilton, Ilchester, Somerset, United Kingdom, BA22 8HW
END:VEVENT
END:VCALENDAR
