BEGIN:VCALENDAR
VERSION:2.0
BEGIN:VEVENT
DTSTART:2023-05-20T10:00+01:00
DTEND:2023-05-21T17:00+01:00
SUMMARY:Steam on The Levels
DESCRIPTION:
LOCATION:Westonzoyland Pumping Station Museum, Hoopers Lane , Westonzoyland, Somerset, United Kingdom, TA7 0LS
END:VEVENT
END:VCALENDAR
