BEGIN:VCALENDAR
VERSION:2.0
BEGIN:VEVENT
DTSTART:2023-04-29T10:00+01:00
DTEND:2023-04-29T12:00+01:00
SUMMARY:Join in with our Coronation Celebrations
DESCRIPTION:
LOCATION:Yeovil Country Park, Yeovil Country Park, Brunswick Street, Yeovil, Somerset, United Kingdom, BA20 1QZ
END:VEVENT
END:VCALENDAR
