BEGIN:VCALENDAR
VERSION:2.0
BEGIN:VEVENT
DTSTART:2023-05-05T19:30+01:00
DTEND:2023-05-05T22:00+01:00
SUMMARY:MEET & BEAT THE BEAST: MARK LABBETT
DESCRIPTION:
LOCATION:Westlands Entertainment Venue, Westbourne Close, Yeovil, Somerset, United Kingdom, BA20 2DD
END:VEVENT
END:VCALENDAR
