BEGIN:VCALENDAR
VERSION:2.0
BEGIN:VEVENT
DTSTART:2023-03-13T19:45+00:00
DTEND:2023-03-18T22:10+00:00
SUMMARY:Agatha Christie's 'The Hollow'
DESCRIPTION:
LOCATION:The Swan Theatre, 138 Park Street, Yeovil, Somerset, United Kingdom, BA20 1QT
END:VEVENT
END:VCALENDAR
