BEGIN:VCALENDAR
VERSION:2.0
BEGIN:VEVENT
DTSTART:2023-04-05T10:30+01:00
DTEND:2023-05-05T17:00+01:00
SUMMARY:Tulip Extravaganza at Forde Abbey
DESCRIPTION:
LOCATION:Forde Abbey House and Gardens, Chard, Somerset, United Kingdom, TA20 4LU
END:VEVENT
END:VCALENDAR
