BEGIN:VCALENDAR
VERSION:2.0
BEGIN:VEVENT
DTSTART:2023-01-29T19:30+00:00
DTEND:2023-01-29T22:00+00:00
SUMMARY:Gareth Gates In The Best Of Frankie Valli And The Four Seasons
DESCRIPTION:
LOCATION:Westlands Entertainment Venue, Westbourne Close, Yeovil, Somerset, United Kingdom, BA20 2DD
END:VEVENT
END:VCALENDAR
