BEGIN:VCALENDAR
VERSION:2.0
BEGIN:VEVENT
DTSTART:2023-01-26T14:00+00:00
DTEND:2023-01-28T22:00+00:00
SUMMARY:Aladdin: Yeovil Amateur Pantomime Society
DESCRIPTION:
LOCATION:The Octagon Theatre, Yeovil, Somerset, United Kingdom, BA20 1UX
END:VEVENT
END:VCALENDAR
